BEGIN:VCALENDAR
VERSION:2.0
PRODID:-//Kulturbüro - ECPv6.15.14//NONSGML v1.0//EN
CALSCALE:GREGORIAN
METHOD:PUBLISH
X-ORIGINAL-URL:https://kulturbuero-radolfzell.de
X-WR-CALDESC:Veranstaltungen für Kulturbüro
REFRESH-INTERVAL;VALUE=DURATION:PT1H
X-Robots-Tag:noindex
X-PUBLISHED-TTL:PT1H
BEGIN:VTIMEZONE
TZID:Europe/Berlin
BEGIN:DAYLIGHT
TZOFFSETFROM:+0100
TZOFFSETTO:+0200
TZNAME:CEST
DTSTART:20250330T010000
END:DAYLIGHT
BEGIN:STANDARD
TZOFFSETFROM:+0200
TZOFFSETTO:+0100
TZNAME:CET
DTSTART:20251026T010000
END:STANDARD
BEGIN:DAYLIGHT
TZOFFSETFROM:+0100
TZOFFSETTO:+0200
TZNAME:CEST
DTSTART:20260329T010000
END:DAYLIGHT
BEGIN:STANDARD
TZOFFSETFROM:+0200
TZOFFSETTO:+0100
TZNAME:CET
DTSTART:20261025T010000
END:STANDARD
BEGIN:DAYLIGHT
TZOFFSETFROM:+0100
TZOFFSETTO:+0200
TZNAME:CEST
DTSTART:20270328T010000
END:DAYLIGHT
BEGIN:STANDARD
TZOFFSETFROM:+0200
TZOFFSETTO:+0100
TZNAME:CET
DTSTART:20271031T010000
END:STANDARD
END:VTIMEZONE
BEGIN:VEVENT
DTSTART;TZID=Europe/Berlin:20260523T100000
DTEND;TZID=Europe/Berlin:20260523T160000
DTSTAMP:20260422T213753
CREATED:20260422T055445Z
LAST-MODIFIED:20260422T055445Z
UID:96681-1779530400-1779552000@kulturbuero-radolfzell.de
SUMMARY:Fahrradtour durch die Ortsteile
DESCRIPTION:Umgeben von Natur und mit jeweils eigenem Charakter gruppieren sich die sechs Ortsteile Böhringen\, Güttingen\, Liggeringen\, Markelfingen\, Möggingen und Stahringen um die Kernstadt. Die Ortsteile Radolfzells sind nicht nur landschaftlich schön gelegen\, sie sind auch reich an historisch wertvollen Sehenswürdigkeiten. Die Tour führt durch die Ortsteile Radolfzells und ist mit einer Streckenlänge von 30 Kilometern und mit 260 Höhenmetern auch für Fahrräder ohne Motor geeignet\, jedoch nicht für Rennräder. Pedelec-Fahrer sind selbstverständlich auch willkommen. \nTeilnahme nur mit Voranmeldung bis Dienstag\, 19. Mai 2026\, unter:\nmuseum@radolfzell.de
URL:https://kulturbuero-radolfzell.de/veranstaltung/fahrradtour-durch-die-ortsteile-301/
ATTACH;FMTTYPE=image/jpeg:https://kulturbuero-radolfzell.de/wp-content/uploads/sites/9/2026/04/event-a01a6035-a1f3-4b7f-9c8d-ba269e582bc0-148.jpg
END:VEVENT
BEGIN:VEVENT
DTSTART;TZID=Europe/Berlin:20260523T100000
DTEND;TZID=Europe/Berlin:20260523T160000
DTSTAMP:20260422T213753
CREATED:20260422T091436Z
LAST-MODIFIED:20260422T091436Z
UID:96897-1779530400-1779552000@kulturbuero-radolfzell.de
SUMMARY:Fahrradtour durch die Ortsteile
DESCRIPTION:Umgeben von Natur und mit jeweils eigenem Charakter gruppieren sich die sechs Ortsteile Böhringen\, Güttingen\, Liggeringen\, Markelfingen\, Möggingen und Stahringen um die Kernstadt. Die Ortsteile Radolfzells sind nicht nur landschaftlich schön gelegen\, sie sind auch reich an historisch wertvollen Sehenswürdigkeiten. Die Tour führt durch die Ortsteile Radolfzells und ist mit einer Streckenlänge von 30 Kilometern und mit 260 Höhenmetern auch für Fahrräder ohne Motor geeignet\, jedoch nicht für Rennräder. Pedelec-Fahrer sind selbstverständlich auch willkommen. \nTeilnahme nur mit Voranmeldung bis Dienstag\, 19. Mai 2026\, unter:\nmuseum@radolfzell.de
URL:https://kulturbuero-radolfzell.de/veranstaltung/fahrradtour-durch-die-ortsteile-302/
ATTACH;FMTTYPE=image/jpeg:https://kulturbuero-radolfzell.de/wp-content/uploads/sites/9/2026/04/event-a01a6035-a1f3-4b7f-9c8d-ba269e582bc0-149.jpg
END:VEVENT
BEGIN:VEVENT
DTSTART;TZID=Europe/Berlin:20260523T100000
DTEND;TZID=Europe/Berlin:20260523T160000
DTSTAMP:20260422T213753
CREATED:20260422T124334Z
LAST-MODIFIED:20260422T124334Z
UID:97113-1779530400-1779552000@kulturbuero-radolfzell.de
SUMMARY:Fahrradtour durch die Ortsteile
DESCRIPTION:Umgeben von Natur und mit jeweils eigenem Charakter gruppieren sich die sechs Ortsteile Böhringen\, Güttingen\, Liggeringen\, Markelfingen\, Möggingen und Stahringen um die Kernstadt. Die Ortsteile Radolfzells sind nicht nur landschaftlich schön gelegen\, sie sind auch reich an historisch wertvollen Sehenswürdigkeiten. Die Tour führt durch die Ortsteile Radolfzells und ist mit einer Streckenlänge von 30 Kilometern und mit 260 Höhenmetern auch für Fahrräder ohne Motor geeignet\, jedoch nicht für Rennräder. Pedelec-Fahrer sind selbstverständlich auch willkommen. \nTeilnahme nur mit Voranmeldung bis Dienstag\, 19. Mai 2026\, unter:\nmuseum@radolfzell.de
URL:https://kulturbuero-radolfzell.de/veranstaltung/fahrradtour-durch-die-ortsteile-303/
ATTACH;FMTTYPE=image/jpeg:https://kulturbuero-radolfzell.de/wp-content/uploads/sites/9/2026/04/event-a01a6035-a1f3-4b7f-9c8d-ba269e582bc0-150.jpg
END:VEVENT
BEGIN:VEVENT
DTSTART;TZID=Europe/Berlin:20260523T100000
DTEND;TZID=Europe/Berlin:20260523T160000
DTSTAMP:20260422T213753
CREATED:20260422T155451Z
LAST-MODIFIED:20260422T155451Z
UID:97329-1779530400-1779552000@kulturbuero-radolfzell.de
SUMMARY:Fahrradtour durch die Ortsteile
DESCRIPTION:Umgeben von Natur und mit jeweils eigenem Charakter gruppieren sich die sechs Ortsteile Böhringen\, Güttingen\, Liggeringen\, Markelfingen\, Möggingen und Stahringen um die Kernstadt. Die Ortsteile Radolfzells sind nicht nur landschaftlich schön gelegen\, sie sind auch reich an historisch wertvollen Sehenswürdigkeiten. Die Tour führt durch die Ortsteile Radolfzells und ist mit einer Streckenlänge von 30 Kilometern und mit 260 Höhenmetern auch für Fahrräder ohne Motor geeignet\, jedoch nicht für Rennräder. Pedelec-Fahrer sind selbstverständlich auch willkommen. \nTeilnahme nur mit Voranmeldung bis Dienstag\, 19. Mai 2026\, unter:\nmuseum@radolfzell.de
URL:https://kulturbuero-radolfzell.de/veranstaltung/fahrradtour-durch-die-ortsteile-304/
ATTACH;FMTTYPE=image/jpeg:https://kulturbuero-radolfzell.de/wp-content/uploads/sites/9/2026/04/event-a01a6035-a1f3-4b7f-9c8d-ba269e582bc0-151.jpg
END:VEVENT
BEGIN:VEVENT
DTSTART;TZID=Europe/Berlin:20260523T100000
DTEND;TZID=Europe/Berlin:20260523T160000
DTSTAMP:20260422T213753
CREATED:20260422T191424Z
LAST-MODIFIED:20260422T191424Z
UID:97545-1779530400-1779552000@kulturbuero-radolfzell.de
SUMMARY:Fahrradtour durch die Ortsteile
DESCRIPTION:Umgeben von Natur und mit jeweils eigenem Charakter gruppieren sich die sechs Ortsteile Böhringen\, Güttingen\, Liggeringen\, Markelfingen\, Möggingen und Stahringen um die Kernstadt. Die Ortsteile Radolfzells sind nicht nur landschaftlich schön gelegen\, sie sind auch reich an historisch wertvollen Sehenswürdigkeiten. Die Tour führt durch die Ortsteile Radolfzells und ist mit einer Streckenlänge von 30 Kilometern und mit 260 Höhenmetern auch für Fahrräder ohne Motor geeignet\, jedoch nicht für Rennräder. Pedelec-Fahrer sind selbstverständlich auch willkommen. \nTeilnahme nur mit Voranmeldung bis Dienstag\, 19. Mai 2026\, unter:\nmuseum@radolfzell.de
URL:https://kulturbuero-radolfzell.de/veranstaltung/fahrradtour-durch-die-ortsteile-305/
ATTACH;FMTTYPE=image/jpeg:https://kulturbuero-radolfzell.de/wp-content/uploads/sites/9/2026/04/event-a01a6035-a1f3-4b7f-9c8d-ba269e582bc0-152.jpg
END:VEVENT
END:VCALENDAR